BEGIN:VCALENDAR
VERSION:2.0
PRODID:-//Central Florida Black Nurses Association of Orlando, Inc - ECPv6.15.20//NONSGML v1.0//EN
CALSCALE:GREGORIAN
METHOD:PUBLISH
X-ORIGINAL-URL:https://cfbnaoforlando.org
X-WR-CALDESC:Events for Central Florida Black Nurses Association of Orlando, Inc
REFRESH-INTERVAL;VALUE=DURATION:PT1H
X-Robots-Tag:noindex
X-PUBLISHED-TTL:PT1H
BEGIN:VTIMEZONE
TZID:America/New_York
BEGIN:DAYLIGHT
TZOFFSETFROM:-0500
TZOFFSETTO:-0400
TZNAME:EDT
DTSTART:20250309T070000
END:DAYLIGHT
BEGIN:STANDARD
TZOFFSETFROM:-0400
TZOFFSETTO:-0500
TZNAME:EST
DTSTART:20251102T060000
END:STANDARD
BEGIN:DAYLIGHT
TZOFFSETFROM:-0500
TZOFFSETTO:-0400
TZNAME:EDT
DTSTART:20260308T070000
END:DAYLIGHT
BEGIN:STANDARD
TZOFFSETFROM:-0400
TZOFFSETTO:-0500
TZNAME:EST
DTSTART:20261101T060000
END:STANDARD
BEGIN:DAYLIGHT
TZOFFSETFROM:-0500
TZOFFSETTO:-0400
TZNAME:EDT
DTSTART:20270314T070000
END:DAYLIGHT
BEGIN:STANDARD
TZOFFSETFROM:-0400
TZOFFSETTO:-0500
TZNAME:EST
DTSTART:20271107T060000
END:STANDARD
END:VTIMEZONE
BEGIN:VEVENT
DTSTART;TZID=America/New_York:20260408T100000
DTEND;TZID=America/New_York:20260408T133000
DTSTAMP:20260420T065105
CREATED:20260310T062214Z
LAST-MODIFIED:20260310T062214Z
UID:10000127-1775642400-1775655000@cfbnaoforlando.org
SUMMARY:Ready. Set. Action! National Public Health Week
DESCRIPTION:UCF partners Forum- National Public Health Week – UCF Downtown Campus
URL:https://cfbnaoforlando.org/event/ready-set-action-national-public-health-week/
LOCATION:UCF Downtown Campus\, 500 W Livingston St.\, Orlando\, FL
ATTACH;FMTTYPE=image/jpeg:https://cfbnaoforlando.org/wp-content/uploads/sites/37/2026/03/8539676302809462331.jpg
END:VEVENT
END:VCALENDAR